BEGIN:VCALENDAR
VERSION:2.0
PRODID:-//  - ECPv6.15.20//NONSGML v1.0//EN
CALSCALE:GREGORIAN
METHOD:PUBLISH
X-ORIGINAL-URL:https://familytkdinpg.com
X-WR-CALDESC:Events for  
REFRESH-INTERVAL;VALUE=DURATION:PT1H
X-Robots-Tag:noindex
X-PUBLISHED-TTL:PT1H
BEGIN:VTIMEZONE
TZID:America/Denver
BEGIN:DAYLIGHT
TZOFFSETFROM:-0700
TZOFFSETTO:-0600
TZNAME:MDT
DTSTART:20160313T090000
END:DAYLIGHT
BEGIN:STANDARD
TZOFFSETFROM:-0600
TZOFFSETTO:-0700
TZNAME:MST
DTSTART:20161106T080000
END:STANDARD
BEGIN:DAYLIGHT
TZOFFSETFROM:-0700
TZOFFSETTO:-0600
TZNAME:MDT
DTSTART:20170312T090000
END:DAYLIGHT
BEGIN:STANDARD
TZOFFSETFROM:-0600
TZOFFSETTO:-0700
TZNAME:MST
DTSTART:20171105T080000
END:STANDARD
BEGIN:DAYLIGHT
TZOFFSETFROM:-0700
TZOFFSETTO:-0600
TZNAME:MDT
DTSTART:20180311T090000
END:DAYLIGHT
BEGIN:STANDARD
TZOFFSETFROM:-0600
TZOFFSETTO:-0700
TZNAME:MST
DTSTART:20181104T080000
END:STANDARD
BEGIN:DAYLIGHT
TZOFFSETFROM:-0700
TZOFFSETTO:-0600
TZNAME:MDT
DTSTART:20190310T090000
END:DAYLIGHT
BEGIN:STANDARD
TZOFFSETFROM:-0600
TZOFFSETTO:-0700
TZNAME:MST
DTSTART:20191103T080000
END:STANDARD
END:VTIMEZONE
BEGIN:VEVENT
DTSTART;VALUE=DATE:20180406
DTEND;VALUE=DATE:20180409
DTSTAMP:20260425T165904
CREATED:20180104T172234Z
LAST-MODIFIED:20180104T172302Z
UID:692-1522972800-1523231999@familytkdinpg.com
SUMMARY:Grandmaster Weekend (San Jose\, CA)
DESCRIPTION:Warrior Code Taekwon-Do is pleased to invite all green belts and above to the 2018 Grand Master Weekend with Grand Master Lan and Grand Master Laquerre in San Jose\, California\, on Friday April 6th to Sunday April 8th. \nFor full information please visit the event website at: www.itfseminar.com. \nCost\n\n$65 – Green Belt/Blue Stripe;\n$85 – Blue Belt/Red Stripe;\n$100 – Red Belt/Black Stripe;\n$125 – 1st/2nd Degree Black Belt;\n$150 – 3rd Black Belt and up.\n\nRegistration\nhttp://www.itfseminar.com/register.html
URL:https://familytkdinpg.com/event/grandmaster-weekend-san-jose-ca/
LOCATION:Warrior Code Taekwon-Do Academy\, 1337 Blossom Hill Road\, San Jose\, CA\, United States
CATEGORIES:Technical Seminar
END:VEVENT
BEGIN:VEVENT
DTSTART;VALUE=DATE:20180317
DTEND;VALUE=DATE:20180319
DTSTAMP:20260425T165904
CREATED:20180104T172552Z
LAST-MODIFIED:20180104T175657Z
UID:694-1521244800-1521417599@familytkdinpg.com
SUMMARY:Carl van Roon Seminar (Vernon)
DESCRIPTION:Sundance Taekwon-Do is proud to present a very special seminar with multiple time world champion Mr. Carl van Roon to be held in the beautiful Okanagan Valley on March 17 & 18\, 2018. \nFor full information please visit http://www.sundancemartialarts.com/seminar-with-carl-van-roon \nCost\n$90 – Day 1 (Blue belt and up).\nClick here to register. \n$140 – Day 1 & 2 (Black belt and up).\nClick here to register. \nCarl Van Roon\n– 23 yrs Martial Arts Experience;\n– 11 x World Champion & International Coach;\n– Masters Degree in Sport and Exercise Science from the University of Auckland – Specialising in Mindset Coaching. \nCareer Highlights\n– Grand Champion (Best Overall Competitor) of 2 consecutive ITF World Championships 2009 & 2011;\n– ITF World Champion in -80kg free-sparring 2011;\n– ISKA Sport Karate World ‘Gold Cup’ Champion 2010 & 2016;\n– ITF World Champion in special technique 2003\, 2005\, 2007\, 2009\, 2011;\n– ITF World Champion in Prearranged (traditional) Sparring 2013\, 2015\, 2017;\n– ITF World Cup Champion in Prearranged (traditional) Sparring;\n– 2012 All Japan Seishinkan Karate Champion;\n– 2007 Former Captain of the NZ National WAKO Kickboxing team. \nOnly 50 Spots Available. Please register as soon as possible. Registration is only confirmed with payment in full.
URL:https://familytkdinpg.com/event/carl-van-roon-seminar/
LOCATION:Sundance Taekwon-Do Vernon\, 2905A 43 Avenue\, Vernon\, British Columbia\, Canada
CATEGORIES:Technical Seminar
END:VEVENT
BEGIN:VEVENT
DTSTART;TZID=America/Denver:20170819T090000
DTEND;TZID=America/Denver:20170819T170000
DTSTAMP:20260425T165904
CREATED:20170214T235253Z
LAST-MODIFIED:20170214T235253Z
UID:614-1503133200-1503162000@familytkdinpg.com
SUMMARY:Technical Seminar with Grandmaster Ung Kim Lan IX
DESCRIPTION:Registration opens in March for this event!\nTechnical Seminar with Grandmaster Ung Kim Lan IX
URL:https://familytkdinpg.com/event/technical-seminar-with-grandmaster-ung-kim-lan-ix/
LOCATION:Priest Valley Gymnasium\, 3407 35th Avenue\, Vernon\, BC\, Canada
CATEGORIES:Technical Seminar
END:VEVENT
END:VCALENDAR