BEGIN:VCALENDAR
VERSION:2.0
PRODID:-//  - ECPv6.15.20//NONSGML v1.0//EN
CALSCALE:GREGORIAN
METHOD:PUBLISH
X-WR-CALNAME: 
X-ORIGINAL-URL:https://familytkdinpg.com
X-WR-CALDESC:Events for  
REFRESH-INTERVAL;VALUE=DURATION:PT1H
X-Robots-Tag:noindex
X-PUBLISHED-TTL:PT1H
BEGIN:VTIMEZONE
TZID:America/Denver
BEGIN:DAYLIGHT
TZOFFSETFROM:-0700
TZOFFSETTO:-0600
TZNAME:MDT
DTSTART:20150308T090000
END:DAYLIGHT
BEGIN:STANDARD
TZOFFSETFROM:-0600
TZOFFSETTO:-0700
TZNAME:MST
DTSTART:20151101T080000
END:STANDARD
BEGIN:DAYLIGHT
TZOFFSETFROM:-0700
TZOFFSETTO:-0600
TZNAME:MDT
DTSTART:20160313T090000
END:DAYLIGHT
BEGIN:STANDARD
TZOFFSETFROM:-0600
TZOFFSETTO:-0700
TZNAME:MST
DTSTART:20161106T080000
END:STANDARD
BEGIN:DAYLIGHT
TZOFFSETFROM:-0700
TZOFFSETTO:-0600
TZNAME:MDT
DTSTART:20170312T090000
END:DAYLIGHT
BEGIN:STANDARD
TZOFFSETFROM:-0600
TZOFFSETTO:-0700
TZNAME:MST
DTSTART:20171105T080000
END:STANDARD
END:VTIMEZONE
BEGIN:VEVENT
DTSTART;TZID=America/Denver:20160123T080000
DTEND;TZID=America/Denver:20160124T130000
DTSTAMP:20260425T141224
CREATED:20151104T180443Z
LAST-MODIFIED:20151104T180650Z
UID:484-1453536000-1453640400@familytkdinpg.com
SUMMARY:22nd International Umpire Course
DESCRIPTION:Dear Grand Masters\, Masters\, Instructors and Students \nIt is my great pleasure to invite you to beautiful Vancouver\, Canada for the 2016 North American International Qualifying Umpire Course. The course dates are January 23 and January 24\, 2016. It will be conducted by Master Alberto Katz – ITF Umpire Committee Chairman\, Master Ruben Suarez and Master Kurt Ottesen – ITF Umpire Committee members as well as special guest instructor Grand Master Wim Bos. \nThe 2016 QIUC will be held at the Sheraton Vancouver Airport Hotel. The course is open to all Black Belts. As an added bonus all 3rd degrees who complete the QIUC may request the ITF Official Umpire “A” status at the date they are promoted to 4th degree. For travelers outside of Canada you will find visa information as well as medial insurance requirements on the invitation page. \nPlease note: In keeping with recent updates to the ITF Umpire Committee alignment program the QIUC is a requirement for all 2nd degree and above umpires interested in umpiring at the 2016 World Cup on Budapest\, Hungary and all 4th degree and above umpires interested in umpiring at the 2017 World Championship in Dublin\, Ireland. \nThe QIUC instruction team and I look forward to seeing you in January. \nSincerely\,\nRod Johnson VI: QIUC Host \nRegistration Form: http://qiucvancouver2016.ca/registration/
URL:https://familytkdinpg.com/event/22nd-international-umpire-course/
LOCATION:Sheraton Vancouver Airport Hotel\, 7551 Westminster Highway\, Richmond\, BC\, V6X 1A3\, Canada
CATEGORIES:International Umpire Course
ORGANIZER;CN="Jon Sun's Taekwon-Do Academy":MAILTO:mr.j@lightspeed.ca
END:VEVENT
END:VCALENDAR