BEGIN:VCALENDAR
VERSION:2.0
PRODID:-//  - ECPv6.15.20//NONSGML v1.0//EN
CALSCALE:GREGORIAN
METHOD:PUBLISH
X-ORIGINAL-URL:https://familytkdinpg.com
X-WR-CALDESC:Events for  
REFRESH-INTERVAL;VALUE=DURATION:PT1H
X-Robots-Tag:noindex
X-PUBLISHED-TTL:PT1H
BEGIN:VTIMEZONE
TZID:America/Denver
BEGIN:DAYLIGHT
TZOFFSETFROM:-0700
TZOFFSETTO:-0600
TZNAME:MDT
DTSTART:20140309T090000
END:DAYLIGHT
BEGIN:STANDARD
TZOFFSETFROM:-0600
TZOFFSETTO:-0700
TZNAME:MST
DTSTART:20141102T080000
END:STANDARD
BEGIN:DAYLIGHT
TZOFFSETFROM:-0700
TZOFFSETTO:-0600
TZNAME:MDT
DTSTART:20150308T090000
END:DAYLIGHT
BEGIN:STANDARD
TZOFFSETFROM:-0600
TZOFFSETTO:-0700
TZNAME:MST
DTSTART:20151101T080000
END:STANDARD
BEGIN:DAYLIGHT
TZOFFSETFROM:-0700
TZOFFSETTO:-0600
TZNAME:MDT
DTSTART:20160313T090000
END:DAYLIGHT
BEGIN:STANDARD
TZOFFSETFROM:-0600
TZOFFSETTO:-0700
TZNAME:MST
DTSTART:20161106T080000
END:STANDARD
BEGIN:DAYLIGHT
TZOFFSETFROM:-0700
TZOFFSETTO:-0600
TZNAME:MDT
DTSTART:20170312T090000
END:DAYLIGHT
BEGIN:STANDARD
TZOFFSETFROM:-0600
TZOFFSETTO:-0700
TZNAME:MST
DTSTART:20171105T080000
END:STANDARD
BEGIN:DAYLIGHT
TZOFFSETFROM:-0700
TZOFFSETTO:-0600
TZNAME:MDT
DTSTART:20180311T090000
END:DAYLIGHT
BEGIN:STANDARD
TZOFFSETFROM:-0600
TZOFFSETTO:-0700
TZNAME:MST
DTSTART:20181104T080000
END:STANDARD
BEGIN:DAYLIGHT
TZOFFSETFROM:-0700
TZOFFSETTO:-0600
TZNAME:MDT
DTSTART:20190310T090000
END:DAYLIGHT
BEGIN:STANDARD
TZOFFSETFROM:-0600
TZOFFSETTO:-0700
TZNAME:MST
DTSTART:20191103T080000
END:STANDARD
BEGIN:DAYLIGHT
TZOFFSETFROM:-0700
TZOFFSETTO:-0600
TZNAME:MDT
DTSTART:20200308T090000
END:DAYLIGHT
BEGIN:STANDARD
TZOFFSETFROM:-0600
TZOFFSETTO:-0700
TZNAME:MST
DTSTART:20201101T080000
END:STANDARD
END:VTIMEZONE
BEGIN:VEVENT
DTSTART;TZID=America/Denver:20190209T080000
DTEND;TZID=America/Denver:20190210T170000
DTSTAMP:20260425T055428
CREATED:20190111T170005Z
LAST-MODIFIED:20190111T172116Z
UID:738-1549699200-1549818000@familytkdinpg.com
SUMMARY:139th International Instructors Course (Vancouver\, BC)
DESCRIPTION:IIC 139 is open to all Black Belts. The course dates are February 9 and February 10\, 2019. IIC 139 will be conducted by ITF technical committee members: \n\nGrand Master Hector Marano\nGrand Master Kim Ung Lan\nGrand Master Pierre Laquerre\nWith special guest Master Clint Norman\, President of the Canadian Taekwon-Do Federation\n\nRegistration deadline is January 21\, 2019. \nIIC 139 will be held at the fantastic Marriott Sheraton Vancouver Airport Hotel. https://www.marriott.com. Special room rates have been arranged for the IIC.\nPlease book your accommodations through this direct link:\nhttps://www.starwoodmeeting.com/events/start.action?id=1808289104&key=6FD41C5. \nHotel accommodation booking deadline is January 10\, 2019. For the IIC special rate the booking code is: IIC. \nI look forward to seeing you February 2019. \nMaster Rod Johnson IIC Host\nwww.iicvancouver2019.ca\nvancouveritf@gmail.com\n604.255.5425\n604.833.5425(c)
URL:https://familytkdinpg.com/event/139th-international-instructors-course-vancouver-bc/
LOCATION:Sheraton Vancouver Airport Hotel\, 7551 Westminster Highway\, Richmond\, BC\, V6X 1A3\, Canada
CATEGORIES:International Instructors Course
END:VEVENT
BEGIN:VEVENT
DTSTART;TZID=America/Denver:20160923T080000
DTEND;TZID=America/Denver:20160925T170000
DTSTAMP:20260425T055428
CREATED:20160530T152844Z
LAST-MODIFIED:20160627T220347Z
UID:535-1474617600-1474822800@familytkdinpg.com
SUMMARY:113rd International Instructors Course (Quebec)
DESCRIPTION:
URL:https://familytkdinpg.com/event/113rd-international-instructors-course/
LOCATION:Unnamed Venue\, Shawinigan\, Quebec\, Canada
CATEGORIES:International Instructors Course
END:VEVENT
BEGIN:VEVENT
DTSTART;TZID=America/Denver:20160916T080000
DTEND;TZID=America/Denver:20160918T170000
DTSTAMP:20260425T055428
CREATED:20160530T153116Z
LAST-MODIFIED:20160627T220316Z
UID:537-1474012800-1474218000@familytkdinpg.com
SUMMARY:112th International Instructors Course (Puerto Rico)
DESCRIPTION:
URL:https://familytkdinpg.com/event/112th-international-instructors-course/
LOCATION:Hotel Verdanza\, Isla Verde\, Carolina\, Puerto Rico
CATEGORIES:International Instructors Course
END:VEVENT
BEGIN:VEVENT
DTSTART;TZID=America/Denver:20160417T080000
DTEND;TZID=America/Denver:20160419T170000
DTSTAMP:20260425T055428
CREATED:20150728T180207Z
LAST-MODIFIED:20150728T180806Z
UID:456-1460880000-1461085200@familytkdinpg.com
SUMMARY:108th International Instructors Course
DESCRIPTION:106th International Instructors Course
URL:https://familytkdinpg.com/event/108th-international-instructors-course/
LOCATION:Unnamed Venue\, Lima\, Peru
CATEGORIES:International Instructors Course
ORGANIZER;CN="Unnamed Organizer":MAILTO:www.taekwondo-peru.com
END:VEVENT
BEGIN:VEVENT
DTSTART;TZID=America/Denver:20160222T080000
DTEND;TZID=America/Denver:20160227T170000
DTSTAMP:20260425T055428
CREATED:20150820T225425Z
LAST-MODIFIED:20150820T225514Z
UID:473-1456128000-1456592400@familytkdinpg.com
SUMMARY:International Instructors Course at Sea "IIC at Sea"
DESCRIPTION:International Instructors Course “IIC At Sea”\nThe ITF-USA invites you to come with us to make history!\nOn February 22\, 2016\, the ITF will hold its first truly International Instructor’s Course\, held across two countries and international waters over five days!  We will set sail on the Independence of the Seas\, one of the most luxurious ocean liners sailing the seven seas\, for a true Taekwon-Do adventure. \nYou are invited to train with the Grandmasters on the beach and on the high seas\, while giving you (and your family and friends) the additional chance to reside in the lap of luxury aboard a world-class vessel and enjoy sightseeing and land activities on two separate islands. \nAnd – you can do this for LESS than the cost of a normal hotel/resort-based IIC!
URL:https://familytkdinpg.com/event/international-instructors-course-at-sea/
LOCATION:Independence of the Seas
CATEGORIES:International Instructors Course
END:VEVENT
BEGIN:VEVENT
DTSTART;TZID=America/Denver:20151106T080000
DTEND;TZID=America/Denver:20151108T170000
DTSTAMP:20260425T055428
CREATED:20150728T181518Z
LAST-MODIFIED:20150728T181713Z
UID:460-1446796800-1447002000@familytkdinpg.com
SUMMARY:106th International Instructors Course
DESCRIPTION:106th International Instructors Course Finland
URL:https://familytkdinpg.com/event/106th-international-instructors-course/
LOCATION:Varala Sports Institute\, 33240\, Tampere\, Finland
CATEGORIES:International Instructors Course
END:VEVENT
BEGIN:VEVENT
DTSTART;TZID=America/Denver:20151010T080000
DTEND;TZID=America/Denver:20151012T170000
DTSTAMP:20260425T055428
CREATED:20150728T181837Z
LAST-MODIFIED:20150728T181937Z
UID:463-1444464000-1444669200@familytkdinpg.com
SUMMARY:105th International Instructors Course
DESCRIPTION:105th International Instructors Course Argentina
URL:https://familytkdinpg.com/event/105th-international-instructors-course/
LOCATION:Unnamed Venue\, Buenos Aires\, Argentina
CATEGORIES:International Instructors Course
END:VEVENT
BEGIN:VEVENT
DTSTART;TZID=America/Denver:20150731T080000
DTEND;TZID=America/Denver:20150802T170000
DTSTAMP:20260425T055428
CREATED:20150630T040005Z
LAST-MODIFIED:20150630T040005Z
UID:431-1438329600-1438534800@familytkdinpg.com
SUMMARY:103rd International Instructors Course
DESCRIPTION:International Instructors Course \nConducted By: Grand Master Marano (Argentina)\, Grand Master Lan (Germany)\, Master Paul McPhail (New Zealand) with special guest Grand Master Pablo Trajtenberg.
URL:https://familytkdinpg.com/event/103rd-international-instructors-course/
LOCATION:Unnamed Venue\, Gold Coast\, Australia
CATEGORIES:International Instructors Course
END:VEVENT
BEGIN:VEVENT
DTSTART;TZID=America/Denver:20150626T100000
DTEND;TZID=America/Denver:20150628T130000
DTSTAMP:20260425T055428
CREATED:20150127T080546Z
LAST-MODIFIED:20150127T080546Z
UID:24-1435312800-1435496400@familytkdinpg.com
SUMMARY:102nd International Instructors Course
DESCRIPTION:
URL:https://familytkdinpg.com/event/102nd-international-instructors-course/
LOCATION:JW Marriott Las Vegas Resort & Spa\, 221 N Rampart Blvd\, Las Vegas\, NV\, 89145 \, United States
CATEGORIES:International Instructors Course
ORGANIZER;CN="Original TaeKwon-Do Federation of America":MAILTO:jgoldman@otfa-usa.org
END:VEVENT
BEGIN:VEVENT
DTSTART;TZID=America/Denver:20150424T190000
DTEND;TZID=America/Denver:20150426T170000
DTSTAMP:20260425T055428
CREATED:20150127T075429Z
LAST-MODIFIED:20150127T080608Z
UID:19-1429902000-1430067600@familytkdinpg.com
SUMMARY:101st International Instructors Course
DESCRIPTION:Dear Respected Grandmasters\, Masters\, Instructors & Students: \nThe Canadian Taekwon-Do Federational International (CTFI)\, along with the Saskatchewan Taekwon-Do Federation International (STFI) cordially invite you to the 101st ITF INTERNATIONAL INSTRUCTOR COURSE [IIC] to be held in Regina\, Saskatchewan on April 25th & 26th\, 2015. We are honoured to welcome the ITF Technical Committee of Grandmaster Bos IX\, Grandmaster Lan IX\, and Master Norman VIII\, who will conduct the two day course which will focus on Fundamental Movements\, Patterns\, Sparring\, and Self-Defense. \nThe 101st ITF INTERNATIONAL INSTRUCTOR COURSE is open to all ITF members who hold the rank of 1st Dan to 9th Dan Black Belt. The ITF Promotion Committee will also be holding a 7th & 8th Dan Black Belt Grading on Sunday\, April 26\, 2015 after completion of the last session.
URL:https://familytkdinpg.com/event/international-instructors-course/
LOCATION:École Monseigneur de Laval\, 1601 Cowan Crescent\, Regina\, SK\, S4S 4C4\, Canada
CATEGORIES:International Instructors Course
END:VEVENT
END:VCALENDAR