BEGIN:VCALENDAR
VERSION:2.0
PRODID:-//  - ECPv6.15.20//NONSGML v1.0//EN
CALSCALE:GREGORIAN
METHOD:PUBLISH
X-ORIGINAL-URL:https://familytkdinpg.com
X-WR-CALDESC:Events for  
REFRESH-INTERVAL;VALUE=DURATION:PT1H
X-Robots-Tag:noindex
X-PUBLISHED-TTL:PT1H
BEGIN:VTIMEZONE
TZID:America/Denver
BEGIN:DAYLIGHT
TZOFFSETFROM:-0700
TZOFFSETTO:-0600
TZNAME:MDT
DTSTART:20140309T090000
END:DAYLIGHT
BEGIN:STANDARD
TZOFFSETFROM:-0600
TZOFFSETTO:-0700
TZNAME:MST
DTSTART:20141102T080000
END:STANDARD
BEGIN:DAYLIGHT
TZOFFSETFROM:-0700
TZOFFSETTO:-0600
TZNAME:MDT
DTSTART:20150308T090000
END:DAYLIGHT
BEGIN:STANDARD
TZOFFSETFROM:-0600
TZOFFSETTO:-0700
TZNAME:MST
DTSTART:20151101T080000
END:STANDARD
BEGIN:DAYLIGHT
TZOFFSETFROM:-0700
TZOFFSETTO:-0600
TZNAME:MDT
DTSTART:20160313T090000
END:DAYLIGHT
BEGIN:STANDARD
TZOFFSETFROM:-0600
TZOFFSETTO:-0700
TZNAME:MST
DTSTART:20161106T080000
END:STANDARD
END:VTIMEZONE
BEGIN:VEVENT
DTSTART;TZID=America/Denver:20150919T080000
DTEND;TZID=America/Denver:20150920T170000
DTSTAMP:20260425T171542
CREATED:20150728T182601Z
LAST-MODIFIED:20150728T182601Z
UID:467-1442649600-1442768400@familytkdinpg.com
SUMMARY:3rd International Competition Course
DESCRIPTION:3rd International Competition Course Scotland
URL:https://familytkdinpg.com/event/3rd-international-competition-course/
LOCATION:Ravenscraig Regional Sports Facility\, 1 O’Donnell Way\, Motherwell\, Scotland\, ML1 2TZ\, United Kingdom
CATEGORIES:International Competition Course
ORGANIZER;CN="Unnamed Organizer":MAILTO:http://www.itfscotland.com
END:VEVENT
END:VCALENDAR