BEGIN:VCALENDAR
VERSION:2.0
PRODID:-//  - ECPv6.15.20//NONSGML v1.0//EN
CALSCALE:GREGORIAN
METHOD:PUBLISH
X-ORIGINAL-URL:https://familytkdinpg.com
X-WR-CALDESC:Events for  
REFRESH-INTERVAL;VALUE=DURATION:PT1H
X-Robots-Tag:noindex
X-PUBLISHED-TTL:PT1H
BEGIN:VTIMEZONE
TZID:America/Denver
BEGIN:DAYLIGHT
TZOFFSETFROM:-0700
TZOFFSETTO:-0600
TZNAME:MDT
DTSTART:20140309T090000
END:DAYLIGHT
BEGIN:STANDARD
TZOFFSETFROM:-0600
TZOFFSETTO:-0700
TZNAME:MST
DTSTART:20141102T080000
END:STANDARD
BEGIN:DAYLIGHT
TZOFFSETFROM:-0700
TZOFFSETTO:-0600
TZNAME:MDT
DTSTART:20150308T090000
END:DAYLIGHT
BEGIN:STANDARD
TZOFFSETFROM:-0600
TZOFFSETTO:-0700
TZNAME:MST
DTSTART:20151101T080000
END:STANDARD
BEGIN:DAYLIGHT
TZOFFSETFROM:-0700
TZOFFSETTO:-0600
TZNAME:MDT
DTSTART:20160313T090000
END:DAYLIGHT
BEGIN:STANDARD
TZOFFSETFROM:-0600
TZOFFSETTO:-0700
TZNAME:MST
DTSTART:20161106T080000
END:STANDARD
BEGIN:DAYLIGHT
TZOFFSETFROM:-0700
TZOFFSETTO:-0600
TZNAME:MDT
DTSTART:20170312T090000
END:DAYLIGHT
BEGIN:STANDARD
TZOFFSETFROM:-0600
TZOFFSETTO:-0700
TZNAME:MST
DTSTART:20171105T080000
END:STANDARD
BEGIN:DAYLIGHT
TZOFFSETFROM:-0700
TZOFFSETTO:-0600
TZNAME:MDT
DTSTART:20180311T090000
END:DAYLIGHT
BEGIN:STANDARD
TZOFFSETFROM:-0600
TZOFFSETTO:-0700
TZNAME:MST
DTSTART:20181104T080000
END:STANDARD
BEGIN:DAYLIGHT
TZOFFSETFROM:-0700
TZOFFSETTO:-0600
TZNAME:MDT
DTSTART:20190310T090000
END:DAYLIGHT
BEGIN:STANDARD
TZOFFSETFROM:-0600
TZOFFSETTO:-0700
TZNAME:MST
DTSTART:20191103T080000
END:STANDARD
END:VTIMEZONE
BEGIN:VEVENT
DTSTART;TZID=America/Denver:20180623T090000
DTEND;TZID=America/Denver:20180623T170000
DTSTAMP:20260425T105612
CREATED:20180529T165712Z
LAST-MODIFIED:20180529T165712Z
UID:713-1529744400-1529773200@familytkdinpg.com
SUMMARY:Belt Testing
DESCRIPTION:Family TaeKwon-Do Manuals\nTesting will be on Saturday June 23rd\, 2018.  Please come prepared and bring your testing manual as it contains your scoring sheet. \nBe sure to visit the testing page of the website for information on your test requirements. See the monthly newsletter in the club or speak with one of the instructors for the password. \nCheck back here a week before your test to see your scheduled test time for your belt rank.
URL:https://familytkdinpg.com/event/belt-testing-7/
LOCATION:Family TaeKwon-Do\, Prince George\, BC\, Canada
CATEGORIES:Belt Testing
END:VEVENT
BEGIN:VEVENT
DTSTART;TZID=America/Denver:20170930T090000
DTEND;TZID=America/Denver:20170930T120000
DTSTAMP:20260425T105612
CREATED:20170918T212519Z
LAST-MODIFIED:20170918T212737Z
UID:682-1506762000-1506772800@familytkdinpg.com
SUMMARY:Belt Testing
DESCRIPTION:Family TaeKwon-Do Manuals\nTesting will be on Saturday September 30th\, 2017.  Please come prepared and bring your testing manual as it contains your scoring sheet. \nBe sure to visit the testing page of the website for information on your test requirements. See the monthly newsletter in the club or speak with one of the instructors for the password. \nCheck back here a week before your test to see your scheduled test time for your belt rank.
URL:https://familytkdinpg.com/event/belt-testing-6/
LOCATION:Family TaeKwon-Do\, Prince George\, BC\, Canada
CATEGORIES:Belt Testing
END:VEVENT
BEGIN:VEVENT
DTSTART;TZID=America/Denver:20170121T080000
DTEND;TZID=America/Denver:20170121T170000
DTSTAMP:20260425T105612
CREATED:20170113T183831Z
LAST-MODIFIED:20170113T194515Z
UID:591-1484985600-1485018000@familytkdinpg.com
SUMMARY:Testing
DESCRIPTION:Testing will be on Saturday January 21st\, 2017.  Please come prepared and bring your testing manual as it contains your scoring sheet. \nBe sure to visit the testing page of the website for information on your test requirements. See the monthly newsletter in the club for the password. \nCheck back here a week before your test to see your scheduled test time for your belt rank.
URL:https://familytkdinpg.com/event/testing/
LOCATION:Family TaeKwon-Do\, Prince George\, BC\, Canada
CATEGORIES:Belt Testing
END:VEVENT
BEGIN:VEVENT
DTSTART;TZID=America/Denver:20160123T080000
DTEND;TZID=America/Denver:20160123T170000
DTSTAMP:20260425T105612
CREATED:20151128T000733Z
LAST-MODIFIED:20151128T000751Z
UID:494-1453536000-1453568400@familytkdinpg.com
SUMMARY:Belt Testing
DESCRIPTION:Be sure to visit the testing page of the website for information on your test requirements. See the monthly newsletter in the club for the password. \nCheck back here a week before your test to see the times for your belt level.
URL:https://familytkdinpg.com/event/belt-testing-4/
LOCATION:Family TaeKwon-Do\, Prince George\, BC\, Canada
CATEGORIES:Belt Testing
END:VEVENT
BEGIN:VEVENT
DTSTART;TZID=America/Denver:20151003T090000
DTEND;TZID=America/Denver:20151003T150000
DTSTAMP:20260425T105612
CREATED:20150910T180719Z
LAST-MODIFIED:20151128T000530Z
UID:478-1443862800-1443884400@familytkdinpg.com
SUMMARY:Belt Testing
DESCRIPTION:Be sure to visit the testing page of the website for information on your test requirements. See the monthly newsletter in the club for the password. \nCheck back here a week before your test to see the times for your belt level.
URL:https://familytkdinpg.com/event/belt-testing-3/
LOCATION:Family TaeKwon-Do\, Prince George\, BC\, Canada
CATEGORIES:Belt Testing
END:VEVENT
BEGIN:VEVENT
DTSTART;TZID=America/Denver:20150613T080000
DTEND;TZID=America/Denver:20150613T150000
DTSTAMP:20260425T105612
CREATED:20150420T122954Z
LAST-MODIFIED:20150423T001305Z
UID:404-1434182400-1434207600@familytkdinpg.com
SUMMARY:Belt Testing
DESCRIPTION:Be sure to visit the testing page of the website for information on your test requirements. See the monthly newsletter in the club for the password. \nCheck back here a week before your test to see the times for your belt level.
URL:https://familytkdinpg.com/event/belt-testing-2/
LOCATION:Family TaeKwon-Do\, Prince George\, BC\, Canada
CATEGORIES:Belt Testing
END:VEVENT
BEGIN:VEVENT
DTSTART;TZID=America/Denver:20150328T080000
DTEND;TZID=America/Denver:20150328T130000
DTSTAMP:20260425T105612
CREATED:20150213T132235Z
LAST-MODIFIED:20150213T132235Z
UID:216-1427529600-1427547600@familytkdinpg.com
SUMMARY:Belt Testing
DESCRIPTION:
URL:https://familytkdinpg.com/event/belt-testing/
LOCATION:Family TaeKwon-Do\, Prince George\, BC\, Canada
CATEGORIES:Belt Testing
END:VEVENT
END:VCALENDAR